BEGIN:VCALENDAR
VERSION:2.0
PRODID:-//ASK - ECPv4.6.20.1//NONSGML v1.0//EN
CALSCALE:GREGORIAN
METHOD:PUBLISH
X-WR-CALNAME:ASK
X-ORIGINAL-URL:https://ask.org.az/en/
X-WR-CALDESC:Events for ASK
BEGIN:VEVENT
DTSTART;TZID=UTC+4:20181208T100000
DTEND;TZID=UTC+4:20181208T160000
DTSTAMP:20260424T180819
CREATED:20181221T060244Z
LAST-MODIFIED:20181221T060244Z
UID:8136-1544263200-1544284800@ask.org.az
SUMMARY:Training on "Licenses and Permissions" will be held at the ASK
DESCRIPTION:Dear business representatives! \nThe National Confederation of Entrepreneurs (Employers’) Organizations of Azerbaijan Republic (ASK) is planning to hold a training on “Licenses and Permits” within the framework of the project “Support to measures taken in the field of state regulation of entrepreneurship” of the Ministry of Economy of Azerbaijan on the initiative of the Azerbaijan Bank Training Center (ABTC). \nVenue: Baku\, Acad. Hasan Aliyev str.\, 57 \nThe training will take place on: 08.12.2018 \nTraining duration: 10:00 – 16:00 \nRegistration deadline is 07.12.2018 at 15:00 \nIf you are a participant\, please contact the relevant department specialists at https://sahibkarliq.typeform.com/to/y2zMlR. \nThe certificate will be presented in the training. The training is free of charge. \nMore information about the training program and the trainer can be found here. \nContact person: \nElmira Baliyeva \nTel: (994 12) 465 72 42 (ext.: 113) \nE-mail: ebaliyeva@ask.org.az \n  \n
URL:https://ask.org.az/en/teqvim/training-on-licenses-and-permissions-will-be-held-at-the-ask/
CATEGORIES:Training and seminars
ATTACH;FMTTYPE=image/jpeg:https://ask.org.az/wp-content/uploads/2018/11/500_F_75250370_aOcLx0ZoNZThLhijVc7cYf4mr7qNCa4c.jpg
END:VEVENT
END:VCALENDAR