BEGIN:VCALENDAR
VERSION:2.0
PRODID:-//ASK - ECPv4.6.20.1//NONSGML v1.0//EN
CALSCALE:GREGORIAN
METHOD:PUBLISH
X-WR-CALNAME:ASK
X-ORIGINAL-URL:https://ask.org.az/en/
X-WR-CALDESC:Events for ASK
BEGIN:VEVENT
DTSTART;VALUE=DATE:20210413
DTEND;VALUE=DATE:20210601
DTSTAMP:20260425T032520
CREATED:20210429T061554Z
LAST-MODIFIED:20210429T061702Z
UID:10775-1618272000-1622505599@ask.org.az
SUMMARY:Investment projects to be implemented in Namangan and Tashkent regions of Uzbekistan
DESCRIPTION:Agrocluster to be organized by FRUITS SEASON GROUP \nFRUITS SEASON GROUP\, which first started operating in Uzbekistan in 2016\, is engaged in the production of fruit and vegetable chips. \nThe company will create an agro-cluster that will meet the needs of both Uzbek and world markets by studying the demand for various types of food products and the development trends of the agricultural sector of Uzbekistan. \nThe project is planned to: \n\nEstablishment of 10 ha of high-tech greenhouse\, 100 ha of intensive garden and 100 ha of drip irrigation;\nConstruction of 13\,000-ton industrial refrigeration complex;\nOrganization of agrological center for processing\, sorting\, drying and export of fruits and vegetables\nCreation of about 650 new jobs.\n\nIn addition\, we would like to inform you that the company’s products have an ISO 22000 certificate of conformity\, a halal certificate and a certificate confirming the absence of GMO in the product. \nNamangan investment projects \nA number of investment projects are planned to be implemented in Namangan region of Uzbekistan. \nThe areas covered by these projects are: \n\nOrganization of dyeing of textiles (decoration of yarns\, knitted fabrics and scattered fabrics)\n\nTotal cost of the project: $ 30 million \nRequired investment: $ 22.5 million \nReturn period: 41 months \n\nCreation of poultry complex (chicken)\n\nTotal cost of the project: $ 55 million \nRequired investment: $ 41 million \nReturn period: 52 months \n\nOrganization of production of one thousand tons of pectin per year\n\nTotal cost of the project: $ 20 million \nRequired investment: $ 15 million \nReturn period: 51 months \n\nProduction of large industrial generators running on gas\, diesel and other fuels\n\nTotal cost of the project: $ 30 million \nRequired investment: $ 22.5 million \nReturn period: 42 months \n\nManufacture of surveillance cameras\, intercoms\, video recorders (for cars) and other electrical products\n\nTotal cost of the project: $ 22 million \nRequired investment: $ 16 million \nReturn period: 54 months \nMore information about the projects is available at info@cdip.uz . \n
URL:https://ask.org.az/en/teqvim/10775/
CATEGORIES:Business forums,Exhibitions
ATTACH;FMTTYPE=image/jpeg:https://ask.org.az/wp-content/uploads/2021/04/Namanqan-Tashkent.jpg
END:VEVENT
END:VCALENDAR