BEGIN:VCALENDAR
VERSION:2.0
PRODID:-//ASK - ECPv4.6.20.1//NONSGML v1.0//EN
CALSCALE:GREGORIAN
METHOD:PUBLISH
X-WR-CALNAME:ASK
X-ORIGINAL-URL:https://ask.org.az/en/
X-WR-CALDESC:Events for ASK
BEGIN:VEVENT
DTSTART;TZID=UTC+4:20180630T080000
DTEND;TZID=UTC+4:20180630T170000
DTSTAMP:20260424T064511
CREATED:20180629T221933Z
LAST-MODIFIED:20180629T221933Z
UID:3185-1530345600-1530378000@ask.org.az
SUMMARY:'India Steel' from April 20-22\, 2017 at Bombay Exhibition Centre\, Mumbai.
DESCRIPTION:Embassy of India in Baku is pleased to inform you that Ministry of Steel\, Government of India along with Federation of Indian Chambers of Commerce and Industry (FICCI) is organizing 3rd Edition of the International Exhibition and Conference on ‘India Steel’ from April 20-22\, 2017 at Bombay Exhibition Centre\, Mumbai. \n\nInternational Steel Producers\, Technology Companies to showcase their equipment\, latest technology and their best practices through Live demonstrations in 10\,000 sq. meters of exhibition area.  The event would provide an excellent platform to buyers\, sellers\, technology providers\, manufacturers\, traders\, importers\, investors\, plant heads/ procurement managers\, government steel procurement departments\, PSUs\, Infrastructure oil & gas pipeline and real estate construction material suppliers/ EPC contractors\, automobile manufacturers\, railway shipping defence vendors\, rolling mill importers and other allied organizations/ institutions from Steel industry and business journalists to interact and develop healthy business relationship with Indian steel industry.\n\n\nReverse Buyer Seller Meet (RBSM) for the first time during India Steel Expo 2017. More than 300 Foreign Buyers from Africa\, CIS\, Middle East\, Developing Asia including SAARC and other important regions will be invited and hosted by the organizers. Exhibitor Profile is attached as Annexure 1 to give a clear understanding of the Exhibitors who will be participating during the event and would be available for the organized B-2-B meetings with the Hosted Foreign Buyers.\n\n\nInform the foreign delegates about the steel products manufactured in India.\nProvide an insight of quality and cost advantages of Indian steel products.\nEstablish business linkages for procurement of steel manufactured in India.\nAttract technology tie-ups\, collaborations\, and joint ventures with Indian steel manufacturers.\nEncourage foreign investment to new areas of the Indian steel sector.\nBring best practices in the sector from around the world.\nIncrease the trade in steel sector with India\n\n\nth February\, 2017 at hoc.baku@mea.gov.in or com.baku@mea.gov.in as per the below format:\n\n\n\n\n \nTitle\nName\nSurname\nDesignation\nOrganisation\nOffice Phone#\nMobile#\nEmail\nWebsite\nCategory\n\n\n\n  \n
URL:https://ask.org.az/en/teqvim/india-steel-from-april-20-22-2017-at-bombay-exhibition-centre-mumbai/
CATEGORIES:Press release
ATTACH;FMTTYPE=image/jpeg:https://ask.org.az/wp-content/uploads/2018/06/default_image_ask.jpg
END:VEVENT
END:VCALENDAR