BEGIN:VCALENDAR
VERSION:2.0
PRODID:-//ASK - ECPv4.6.20.1//NONSGML v1.0//EN
CALSCALE:GREGORIAN
METHOD:PUBLISH
X-WR-CALNAME:ASK
X-ORIGINAL-URL:https://ask.org.az
X-WR-CALDESC:Events for ASK
BEGIN:VEVENT
DTSTART;VALUE=DATE:20181204
DTEND;VALUE=DATE:20181208
DTSTAMP:20260424T204149
CREATED:20181119T071556Z
LAST-MODIFIED:20181119T071556Z
UID:5732-1543881600-1544227199@ask.org.az
SUMMARY:“Bakutel 2018” sərgisi keçiriləcək
DESCRIPTION:Hörmətli sahibkarlar\, \nSizi “Yüksək Texnologiyalar Həftəsi”nə start verilərək 4-7 dekabr tarixlərində Bakı şəhərində keçiriləcək “Bakutel 2018”- 24-cü Azərbaycan Beynəlxalq Telekommunikasiya\, İnnovasiya və Yüksək Texnologiyalar Sərgi və Konfransında iştirak etməyə dəvət edirik. Bu gün “Bakutel” sərgisi sürətlə inkişaf edən texniki nailiyyətlərə həsr olunmuş yalnız bir sərgi deyil\, burada müxtəlif İKT sahələrini təmsil edən mütəxəssis və peşəkarları toplanaraq\, iqtisadi və sosial rifahı təmin etməkdə mühüm rol oynayan bütün fəaliyyət sahələri üçün geniş imkanlar və son inkişafları təklif edən və əhalinin həyat səviyyəsinin artırılması üçün unikal bir platformadır. \n“Bakutel 2018” sərgisi Azərbaycan Respublikası Nəqliyyat\, Rabitə və Yüksək Texnologiyalar Nazirliyi\, Beynəlxalq Telekommunikasiya İttifaqı (ITU)\, Regional Rabitə Birliyi (RRB)\, Azərbaycanda İxracın və İnvestisiyaların Təşviqi Fondu (AZPROMO) və Azərbaycan Respublikası Sahibkarlar (İşəgötürənlər) Təşkilatları Milli Konfederasiyası (ASK) və Azərbaycan Respublikasının Kiçik və Orta Biznesin İnkişafı Agentliyinin dəstəyi ilə keçirilir. Sərginin təşkilatçısı qismində “Caspian Event Organisers” (“CEO”) şirkəti çıxış edir. Sərginin baş sponsoru qismində müntəzəm iştirakçısı olan Azercell Telecom çıxış. \nBu il sərgi dünyanın 20 ölkəsini təmsil edən 200-dən artıq şirkətin iştirakı gözlənilir. İştirakçıların arasında İKT şirkətləri\, mobil operatorlar\, rabitə operatorları\, internet provayderləri\, sistem inteqratorları\, tanınmış brendlərin distributorları və gənc ixtiraçılar. “Bakutel 2018” sərgisi Azərbaycan Respublikası Nəqliyyat\, Rabitə və Yüksək Texnologiyalar Nazirliyinin fəal dəstəyi ilə reallaşdırılan ABŞ\, Birləşmiş Ərəb Əmirlikləri\, İtaliya\, İran\, Fransa\, Türkiyə\, Sloveniya\, Xorvatiya kimi ölkələrin milli stendlərini nümayiş etdirəcək. \nSərgi bu il bir real innovasiya festivalı təqdim edəcək. Sərgidə banklar üçün yeni nəsil IT həlləri\, şəhər nəqliyyatı\, pərakəndə satış\, “Ağıllı Şəhər” (Smart City) sistemləri\, 4G-5G mobil texnologiyalar\, optik lifli texnologiya və “bulud” texnologiyaları üzrə xidmətlər təklif olunacaq. \n“Bakutel” sərgisi hər kəsə ən yaxşı nailiyyətlər və texnologiyaların qəbul edilməsi\, yeni tərəfdaşlar və investorların tapılması\, eləcə də biznesin inkişafı üzrə səmərəli həll yollarını təqdim edəcək. \n
URL:https://ask.org.az/teqvim/bakutel-2018-s-rgisi-keciril-c-k/
CATEGORIES:Sərgilər
ATTACH;FMTTYPE=image/jpeg:https://ask.org.az/wp-content/uploads/2018/11/1926.jpg
END:VEVENT
BEGIN:VEVENT
DTSTART;TZID=UTC+4:20181206T100000
DTEND;TZID=UTC+4:20181207T120000
DTSTAMP:20260424T204149
CREATED:20181113T083947Z
LAST-MODIFIED:20181115T132816Z
UID:5665-1544090400-1544184000@ask.org.az
SUMMARY:ASK-da “Sahibkarlıq fəaliyyətində İcbari sığortalar” mövzusunda təlim keçiriləcək
DESCRIPTION:Dəyərli sahibkarlar! \nSizi\, Azərbaycan Respublikası Sahibkarlar (İşəgötürənlər) Təşkilatları Milli Konfederasiyasının dəstəyi və ATƏŞGAH SIĞORTA şirkətinin təşəbbüsü ilə 06 – 07.12.2018 tarixlərində sahibkarların maarifləndirilməsi məqsədi ilə “Sahibkarlıq fəaliyyətində İcbari sığortalar” mövzusunda planlaşdırılan təlimdə  iştirak etməyə dəvət edirik. \nMüəssisələrin öz işçilərini icbari qaydada sığortalaması böyük əhəmiyyət daşıdığı bir zamanda sahibkarların icbari sığortalar haqda məlumatlılığının artırılması və  uğurlu fəaliyyət üçün sığortanın faydaları\, iqtisadi biznes mühitin ayrılmaz atributlarındandır. Təlimdə bəhs olunacaq mövzular haqqında tam məlumat ilə əlavə olaraq göndərilən proqramda tanış ola bilərsiniz. \nTəlimdə iştirak etmək üçün https://sahibkarliq.typeform.com/to/AK7K8z linkində qeydiyyatdan keçmək mütləqdir. \nKursun keçirilmə tarixi:     06 – 07.12.2018 \nBaşlama saatı:                 10:00 – 12:00 \nTəlimin keçirildiyi ünvan:  Bakı ş\, Akad. Həsən Əliyev küç.\, 57\, 3-cü mərtəbə (ASK-nın ofisi) \nSon qeydiyyat tarixi:         05.12.2018\, saat 16:00-a qədər \nTam proqram üzrə təlimi bitirmiş iştirakçılara sertifikat təqdim olunacaq. \nTəlimin proqramı ilə buradan tanış ola bilərsiniz. \n  \nTəlim ASK üzvləri üçün ödənişsiz\, qeyri üzvlər üçün isə 50 AZN təşkil edir. Ödənişi təsdiq edən sənəd ən gec təlimin ilk günü təqdim olunmalıdır! \nÖdəniş üçün aşağıda qeyd olunan bank rekvizitləri təqdim olunur: \n\n\n\n«Turanbank»  ASC \nKodu: 507462   \nVÖEN: 1300016391 \nMüxbir hesab: AZ26NABZ01350100000000027944 \nSWIFT: TURAAZ22.\n\n\n  \n“ASK Biznes Konsaltinq” MMC  \nHesab: AZ57TURA40060013072400100944 \nVÖEN: 1502413761                                                                                                                  \n \n\n\n\n  \nƏlaqələndirici şəxs: Elmira Balıyeva \nTel: (994 12) 465 72 42 \nE-mail: ebaliyeva@ask.org.az  \n
URL:https://ask.org.az/teqvim/ask-da-sahibkarliq-f-aliyy-tind-icbari-sigortalar-movzusunda-t-lim-keciril-c-k/
CATEGORIES:Seminar və təlimlər
ATTACH;FMTTYPE=image/jpeg:https://ask.org.az/wp-content/uploads/2018/11/blog-1337564_1280.jpg
END:VEVENT
END:VCALENDAR