BEGIN:VCALENDAR
VERSION:2.0
PRODID:-//ASK - ECPv4.6.20.1//NONSGML v1.0//EN
CALSCALE:GREGORIAN
METHOD:PUBLISH
X-WR-CALNAME:ASK
X-ORIGINAL-URL:https://ask.org.az
X-WR-CALDESC:Events for ASK
BEGIN:VEVENT
DTSTART;VALUE=DATE:20200204
DTEND;VALUE=DATE:20200601
DTSTAMP:20260425T223033
CREATED:20200204T111009Z
LAST-MODIFIED:20200204T111136Z
UID:9521-1580774400-1590969599@ask.org.az
SUMMARY:"Biznes ideya yarat və öz biznesinə" başla təlimi
DESCRIPTION:Sahibkarlıq fəaliyyəti ilə məşğul olmaq\, özünəməşqulluğu təmin etmək istəyən vətəndaşlar üçün biznes təlim\, davamlı konsaltinq və mentor proqramında iştirak etmək imkanı təqdim olunur. \n\nHər biri 15 nəfərdən ibarət 6 qrupun təşkil olunması nəzərdə tutulur;\nTəlim müddəti: 10 gün \ 40 saat;\nTəlim haqqı: 200 AZN (kofe-breyk və təlim materialları daxil);\nİştirak etmək istəyənlər http://bit.ly/35uukZv keçidə daxil olaraq qeydiyyatdan keçməlidirlər\n\nSeçilmiş iştirakçılar təlimlərin keçirilmə vaxtı barəsində əlavə olaraq məlumatlandırılacaqlar. \nTəlim aşağıdakı mövzuları əhatə edir: \n\n1 aylıq Biznes Təlim kursu və məsləhəti\nBiznes ideyanın inkişafı\nBiznes Planın Hazırlanması\n\n
URL:https://ask.org.az/teqvim/biznes-ideya-yarat-ve-biznesine-basla-biznes-ideya-yarat-v-oz-biznesin/
CATEGORIES:Seminar və təlimlər
ATTACH;FMTTYPE=image/jpeg:https://ask.org.az/wp-content/uploads/2020/02/Biznes-ideya-yarat.jpg
END:VEVENT
BEGIN:VEVENT
DTSTART;TZID=UTC+4:20200505T203000
DTEND;TZID=UTC+4:20200505T213000
DTSTAMP:20260425T223033
CREATED:20200504T071848Z
LAST-MODIFIED:20200504T071848Z
UID:9757-1588710600-1588714200@ask.org.az
SUMMARY:Pandemiya dövrü və sonrasında marketinq addımları
DESCRIPTION:Hörmətli Sahibkar! \nAzərbaycan Sahibkarlar Konfederasiyası ölkə ərazisində fəaliyyət göstərən sahibkarlara dəstək məqsədi ilə fərqli sahələri əhatə etməklə müxtəlif mövzularda məlumatlandırıcı seminarların təşkilini davam edir. \nNövbəti addım olaraq 05 may 2020-ci il tarixində saat 20:30-da “Brandup marketinq və dizayn” agentliyinin təsisçisi\, marketinq üzrə ekspert Tamerlan İsmayılovun moderatorluğu ilə “Pandemiya dövrü və sonrasında marketinq addımları” mövzusunda canlı yayım təşkil olunacaq. \n\nCanlı yayımda aşağıdakı məsələlərə toxunulacaq:\n Mövcud marketinq fəaliyyətinin auditi\n Toxunma nöqtələri üzərində iş\n Hədəf kütləsinə çıxış kanalları üzərində iş\n Effektiv\, lakin ölkəmizdə geniş yayılmamış marketinq həlləri \nCanlı yayımda iştirak etmək üçün Azərbaycan Sahibkarlar Konfederasiyasının facebook səhifəsini izləməyinizi xahiş edirik: facebook.com/sahibkarlar \n#ask #sahibkarlar #biznesedestek #karantindebiznes #covidsahibkartesir \n\n
URL:https://ask.org.az/teqvim/pandemiya-dovru-v-sonrasinda-marketinq-addimlari/
CATEGORIES:Seminar və təlimlər
ATTACH;FMTTYPE=image/jpeg:https://ask.org.az/wp-content/uploads/2020/05/600x400-1.jpg
END:VEVENT
END:VCALENDAR