BEGIN:VCALENDAR
VERSION:2.0
PRODID:-//ASK - ECPv4.6.20.1//NONSGML v1.0//EN
CALSCALE:GREGORIAN
METHOD:PUBLISH
X-WR-CALNAME:ASK
X-ORIGINAL-URL:https://ask.org.az
X-WR-CALDESC:Events for ASK
BEGIN:VEVENT
DTSTART;TZID=UTC+4:20220427T110000
DTEND;TZID=UTC+4:20220427T120000
DTSTAMP:20260424T120007
CREATED:20220420T065945Z
LAST-MODIFIED:20220420T065945Z
UID:11567-1651057200-1651060800@ask.org.az
SUMMARY:Kommersiya mübahisələrində prosedur və diqqət yetirilməli məqamlar
DESCRIPTION:Hörmətli Sahibkarlar! \nSizi Azərbaycan Sahibkarlar Konfederasiyasının təşkilatçılığı “Turan Legal and Tax Services” şirkətinin ilə dəstəyi ilə 27.04.2022 tarixində ZOOM platforması üzərindən saat 11:00-da baş tutacaq “Kommersiya mübahisələrində prosedur və diqqət yetirilməli məqamlar” mövzusunda vebinarda iştirak etməyə dəvət edirik. \nTədbirdə iştirakla bağlı məlumatı yazılı şəkildə (Ad\, Soyad\, təmsil olunan şirkət) təqdim etməyinizi xahiş edirik. \nƏlaqələndiri şəxs: Zülfiyyə Vəliyeva \nTel: +994 51 229 97 22 \nE-mail: zvaliyeva@ask.org.az \n
URL:https://ask.org.az/teqvim/kommersiya-mubahis-l-rind-prosedur-v-diqq-t-yetirilm-li-m-qamlar/
CATEGORIES:Seminar və təlimlər
ATTACH;FMTTYPE=image/jpeg:https://ask.org.az/wp-content/uploads/2022/04/600x400-5.jpg
END:VEVENT
BEGIN:VEVENT
DTSTART;TZID=UTC+4:20220427T150000
DTEND;TZID=UTC+4:20220427T170000
DTSTAMP:20260424T120007
CREATED:20220426T085058Z
LAST-MODIFIED:20220426T085058Z
UID:11603-1651071600-1651078800@ask.org.az
SUMMARY:Menecerlərin Kvalifikasiyası
DESCRIPTION:\nHörmətli #Sahibkarlar!\n\n\nSizi Azərbaycan Sahibkarlar Konfederasiyası (#ASK)\, ASK Business Consulting MMC\, ADA University və Your Personal Consalting MMC-in birgə təşkilatçılığı ilə “#MenecerlərinKvalifikasiyası” mövzusunda layihədə iştirak etməyə dəvət edirik.\n\n\n\nTədbir 27 aprel 2022-ci il tarixində #ZOOM platforması üzərindən onlayn formatda saat 15:00-da baş tutacaq.\n\n\n\nLayihədə iştirak etmək üçün zoom link:\nhttps://us06web.zoom.us/j/81796954290…\n\n\n\nMeeting ID: 817 9695 4290\nPasscode: 243832\n\n
URL:https://ask.org.az/teqvim/menecerl-rin-kvalifikasiyasi/
CATEGORIES:Seminar və təlimlər
ATTACH;FMTTYPE=image/jpeg:https://ask.org.az/wp-content/uploads/2022/04/600x400-8.jpg
END:VEVENT
END:VCALENDAR