BEGIN:VCALENDAR
VERSION:2.0
PRODID:-//ASK - ECPv4.6.20.1//NONSGML v1.0//EN
CALSCALE:GREGORIAN
METHOD:PUBLISH
X-WR-CALNAME:ASK
X-ORIGINAL-URL:https://ask.org.az
X-WR-CALDESC:Events for ASK
BEGIN:VEVENT
DTSTART;TZID=UTC+4:20220630T090000
DTEND;TZID=UTC+4:20220630T100000
DTSTAMP:20260424T091631
CREATED:20220622T125039Z
LAST-MODIFIED:20220622T125039Z
UID:11730-1656579600-1656583200@ask.org.az
SUMMARY:Dövlət satınalmaları sahəsində sahibkarların maarifləndirilməsi
DESCRIPTION:\nHörmətli #Sahibkarlar!\n\n\nSizi Azərbaycan Sahibkarlar Konfederasiyasının (#ASK) təşkilatçılığı Antiinhisar və İstehlak Bazarına Nəzarət Dövlət Xidmətinin dəstəyi ilə 30 iyun 2022-ci il tarixində Landmark Rotunda zalında saat 9:00-da baş tutacaq “Dövlət satınalmaları sahəsində sahibkarların maarifləndirilməsi” mövzusunda #seminar-da iştirak etməyə dəvət edirik.\n\n\nSeminarın müzakirə mövzuları aşağıdakılardır:\n1. #DövlətSatınalmaları qanunvericiliyi və mərhələləri\n2. Satınalmalarda iştirakın planlaşdırılması\n3. İxtisas uyğunluğu göstəriciləri\n4. Satınalma sənədləri\n5. Təkliflərin təqdim edilməsi və qiymətləndirilməsi\n6. Satınalmanın nəticələri\n7. Müqavilənin icrası\n8. Satınalma ilə bağlı şikayətlər\n9. Elektron satınalmalarda iştirakın əyani təqdimatı\n\n\nSeminarın sonunda iştirakçılar #sertifikat ilə təltif olunacaqlar.\n\n\nSeminarda iştirak ödənişsizdir\, iştirakla bağlı məlumatı yazılı şəkildə (Ad\, Soyad\, təmsil olunan şirkət) zvaliyeva@ask.org.az mail ünvanına təqdim etməyinizi xahiş edirik.\n\n\nƏlaqələndiri şəxs: Zülfiyyə Vəliyeva\nTel: +994 51 229 97 22\nE-mail: zvaliyeva@ask.org.az\n\n
URL:https://ask.org.az/teqvim/dovl-t-satinalmalari-sah-sind-sahibkarlarin-maarifl-ndirilm-si/
CATEGORIES:Seminar və təlimlər
ATTACH;FMTTYPE=image/jpeg:https://ask.org.az/wp-content/uploads/2022/06/Basl-ks-z-ad.jpg
END:VEVENT
END:VCALENDAR