BEGIN:VCALENDAR
VERSION:2.0
PRODID:-//ASK - ECPv4.6.20.1//NONSGML v1.0//EN
CALSCALE:GREGORIAN
METHOD:PUBLISH
X-WR-CALNAME:ASK
X-ORIGINAL-URL:https://ask.org.az
X-WR-CALDESC:Events for ASK
BEGIN:VEVENT
DTSTART;TZID=UTC+4:20221114T100000
DTEND;TZID=UTC+4:20221114T110000
DTSTAMP:20260424T032500
CREATED:20221110T130259Z
LAST-MODIFIED:20221110T130821Z
UID:11975-1668420000-1668423600@ask.org.az
SUMMARY:Avtomobil nəqliyyatı ilə beynəlxalq daşıyıcıların sertifikatlaşdırılması
DESCRIPTION:\nHörmətli #sahibkarlar!\n\n\n\nQlobal Sahibkarlıq həftəsi çərçivəsində Azərbaycan Sahibkarlar Konfederasiyası (#ASK) və Aztugem MMC ilə “Avtomobil nəqliyyatı ilə beynəlxalq daşıyıcıların sertifikatlaşdırılması” mövzusunda #seminar keçiriləcəkdir.\n\n\n\nSizi sözügedən seminarda iştirak etməyə dəvət edirik.\n\nSon müraciət tarixi: 11.11.2022\n\n\nSeminarda iştirak üçün qeydiyyat mütləqdir. Tədbirdə iştirakla bağlı məlumatı yazılı şəkildə (Ad\, Soyad\, təmsil olunan şirkət) nhasanova@ask.org.az e-mail ünvanına göndərməyiniz xahiş olunur.\n\n\n\n\nƏlaqə üçün: +994 12 465 76 92 (daxili 119)\n\n\n\n\nTarix: 14 noyabr\, 2022\n\n\n\nSaat: 10:00\n\n\n\nMəkan: Landmark\, Lahıc zalı\nÜnvan: Nizami 90A\, Landmark III\n\n
URL:https://ask.org.az/teqvim/11975/
CATEGORIES:Seminar və təlimlər
ATTACH;FMTTYPE=image/png:https://ask.org.az/wp-content/uploads/2022/11/600x400-1.png
END:VEVENT
END:VCALENDAR