BEGIN:VCALENDAR
VERSION:2.0
PRODID:-//ASK - ECPv4.6.20.1//NONSGML v1.0//EN
CALSCALE:GREGORIAN
METHOD:PUBLISH
X-WR-CALNAME:ASK
X-ORIGINAL-URL:https://ask.org.az
X-WR-CALDESC:Events for ASK
BEGIN:VEVENT
DTSTART;TZID=UTC+4:20221117T103000
DTEND;TZID=UTC+4:20221117T113000
DTSTAMP:20260424T032411
CREATED:20221112T085330Z
LAST-MODIFIED:20221112T085406Z
UID:11979-1668681000-1668684600@ask.org.az
SUMMARY:Müasir iqtisadi reallıqda idarəçilik
DESCRIPTION:\nHörmətli #Sahibkarlar!\n\n\n\nMəlumat üçün bildiririk ki\, Qlobal Sahibkarlıq həftəsi çərçivəsində Azərbaycan Sahibkarlar Konfederasiyası (#ASK) nəzdində fəaliyyət göstərən “Qadın sahibkarlarla iş komissiyası”nın təşkilatçılığı ilə qadın sahibkarlar və iş adamları üçün “Müasir iqtisadi reallıqda idarəçilik” mövzusunda biznes konsultant Fahri Agayevlə görüş keçiriləcək.\n\n\n\nSizi sözügedən görüşdə iştirak etməyə dəvət edirik.\n\n\n\nQeydiyyat linki: https://forms.gle/ShYJT5Ak1p8BRkqKA\n\n\n\nTarix: 17 noyabr\, 2022\nSaat: 10:30\n\nMəkan: Landmark\, Lahıc zalı\n\n\nÜnvan: Nizami 90A\, Landmark III\n\n
URL:https://ask.org.az/teqvim/11979/
CATEGORIES:Seminar və təlimlər
ATTACH;FMTTYPE=image/png:https://ask.org.az/wp-content/uploads/2022/11/314891891_2627904054028043_2802189108947110419_n600x400.png
END:VEVENT
END:VCALENDAR