BEGIN:VCALENDAR
VERSION:2.0
PRODID:-//ASK - ECPv4.6.20.1//NONSGML v1.0//EN
CALSCALE:GREGORIAN
METHOD:PUBLISH
X-WR-CALNAME:ASK
X-ORIGINAL-URL:https://ask.org.az
X-WR-CALDESC:Events for ASK
BEGIN:VEVENT
DTSTART;VALUE=DATE:20190806
DTEND;VALUE=DATE:20190810
DTSTAMP:20260423T101712
CREATED:20190802T135059Z
LAST-MODIFIED:20190814T112741Z
UID:9077-1565049600-1565395199@ask.org.az
SUMMARY:28-ci Beynəlxalq Mebel Sərgisi
DESCRIPTION:İran İslam Respublikası və Azərbaycan Respublikasının yüksək vəzifəli məmurlarının iki ölkə arasında iqtisadi əlaqələrin inkişafına olan istəyini nəzərə alaraq\, həmçinin əməkdaşlıq imkanlarının müəyyənləşdirmək üçün şəraitin yaradılması məqsədilə İran İslam Respublikasının paytaxtı Tehran şəhərində 06.08.2019 – 09.08.2019 tarixlərində keçiriləcək 28-ci Beynəlxalq Mebel Sərgisində Azərbaycanlı şirkət rəhbərləri iştirak etməyə dəvət olunurlar. \nTəşkilatçı tərəfindən qarşılanacaq xərclər:\n-3 gecə oteldə qonaqlama\, qidalanma\n-nəqliyyat xərcləri iştirakçı tərəfindən ödəniləcəkdir \n  \n
URL:https://ask.org.az/teqvim/28-ci-beyn-lxalq-mebel-s-rgisi/
CATEGORIES:Sərgilər
ATTACH;FMTTYPE=image/jpeg:https://ask.org.az/wp-content/uploads/2019/08/Homex.jpg
END:VEVENT
END:VCALENDAR