BEGIN:VCALENDAR
VERSION:2.0
PRODID:-//ASK - ECPv4.6.20.1//NONSGML v1.0//EN
CALSCALE:GREGORIAN
METHOD:PUBLISH
X-WR-CALNAME:ASK
X-ORIGINAL-URL:https://ask.org.az
X-WR-CALDESC:Events for ASK
BEGIN:VEVENT
DTSTART;VALUE=DATE:20190919
DTEND;VALUE=DATE:20190920
DTSTAMP:20260423T101501
CREATED:20190916T075305Z
LAST-MODIFIED:20190916T075332Z
UID:9184-1568851200-1568937599@ask.org.az
SUMMARY:9-сu Beynəlxalq “Caspian Energy Forum Baku 2019” keçiriləcək
DESCRIPTION:Sizi\, Azərbaycan Respublikasının Hökuməti və Caspian European Club-ın dəstəyi ilə 19 sentyabr 2019-cu il tarixində Baku Boulevard Hotelinin Tağıyev zalında keçiriləcək 9-сu Beynəlxalq “Caspian Energy Forum Baku 2019” tədbirinə dəvət etməkdən məmnunluq duyuruq. “Caspian Energy Forum Baku – 2019” tədbirində Azərbaycan Respublikası dövlət qurumlarının\, nazirliklərin və dövlət komitələrinin\, dövlət agentliklərinin\, dövlət xidmətlərinin\, həmçinin dövlət və transmilli şirkətlərin\, beynəlxalq maliyyə institutlarının\, aparıcı analitik mərkəzlərin\, investisiya şirkətlərinin və reytinq agentliklərinin rəhbərləri\, o cümlədən Azərbaycan Respublikasında akkreditə olunmuş diplomatik və beynəlxalq missiya nümayəndələri də daxil olmaqla\, 1500-dən artıq deleqat iştirak edəcək. Tədbirin proqramında kofe-breyk və işgüzar nahar zamanı işləmək və iştirakçılarla ünsiyyət üçün əlavə imkanlar nəzərdə tutulmuşdur. Forumda iştirak etmək istəyən ASK üzvləri üçün eksklüziv endirim (ƏDV daxil olmaqla ümumi bilet qiymətinin 15%-ı) təklif olunur. Qeydiyyat və əlavə suallar ilə bağlı xanım Günay Sadıqova ilə əlaqə saxlaya bilərsiniz. \nƏlaqələndirici şəxs:\nGünay Sadıqova\n+99412 4470236/38 (daxili 104)\n+99450 8888020\npr@caspianenergy.net \n
URL:https://ask.org.az/teqvim/9-su-beyn-lxalq-caspian-energy-forum-baku-2019-keciril-c-k/
CATEGORIES:Biznes forumlar
ATTACH;FMTTYPE=image/jpeg:https://ask.org.az/wp-content/uploads/2019/09/Caspian-forum.jpg
END:VEVENT
END:VCALENDAR