BEGIN:VCALENDAR
VERSION:2.0
PRODID:-//ASK - ECPv4.6.20.1//NONSGML v1.0//EN
CALSCALE:GREGORIAN
METHOD:PUBLISH
X-WR-CALNAME:ASK
X-ORIGINAL-URL:https://ask.org.az
X-WR-CALDESC:Events for ASK
BEGIN:VEVENT
DTSTART;TZID=UTC+4:20200504T160000
DTEND;TZID=UTC+4:20200504T170000
DTSTAMP:20260425T223930
CREATED:20200501T133417Z
LAST-MODIFIED:20200501T133417Z
UID:9754-1588608000-1588611600@ask.org.az
SUMMARY:Enneaqram və şirkətlərdə ümumi keyfiyyət menecmenti
DESCRIPTION:Hörmətli Sahibkar! \nSizi\, Azərbaycan Sahibkarlar Konfederasiyasının təşkil etdiyi növbəti onlayn seminarda iştirak etməyə dəvət edirik. \nBelə ki\, 04 may 2020-ci il tarixində saat 16:00 da “Enneaqram və şirkətlərdə ümumi keyfiyyət menecmenti” mövzusunda Trabzon universitetinin dosenti\, Bakı MEM psixologiya mərkəzinin həmtəsisçisi Mehmet Palançının moderatorluğu ilə Azərbaycan Sahibkarlar Konfederasiyasının Facebook platforması üzərindən canlı yayıma dəvət edirik. \n\nCanlı yayımda iştirak etmək üçün Azərbaycan Sahibkarlar Konfederasiyasının facebook səhifəsini izləməyinizi xahiş edirik: facebook.com/sahibkarlar \n#ask #sahibkarlar #biznesedestek #karantindebiznes #covidsahibkartesir \n\n
URL:https://ask.org.az/teqvim/enneaqram-v-sirk-tl-rd-umumi-keyfiyy-t-menecmenti/
CATEGORIES:Seminar və təlimlər
ATTACH;FMTTYPE=image/jpeg:https://ask.org.az/wp-content/uploads/2020/05/600x400.jpg
END:VEVENT
END:VCALENDAR