BEGIN:VCALENDAR
VERSION:2.0
PRODID:-//ASK - ECPv4.6.20.1//NONSGML v1.0//EN
CALSCALE:GREGORIAN
METHOD:PUBLISH
X-WR-CALNAME:ASK
X-ORIGINAL-URL:https://ask.org.az
X-WR-CALDESC:Events for ASK
BEGIN:VEVENT
DTSTART;TZID=UTC+4:20180428T080000
DTEND;TZID=UTC+4:20180429T170000
DTSTAMP:20260423T111013
CREATED:20181011T125325Z
LAST-MODIFIED:20181011T125703Z
UID:4677-1524902400-1525021200@ask.org.az
SUMMARY:II National Accountants Forum will be held in Azerbaijan
DESCRIPTION:One of the factors that contributes to the sustainable development of the country’s economy is the transparency\, accountability and accountability of the public and private sector in line with modern requirements. Considering modern challenges in the field of accounting\, the Ministry of Taxes of the Republic of Azerbaijan\, the National Chamber of Entrepreneurs of Azerbaijan Republic\, will hold II National Accountants Forum at the Training Center of the Ministry of Taxes of Shamakhi region. \nForum aimed to study the problems of Azerbaijani accountants\, to stimulate research on accounting and tax legislation and enhance international awareness. Accountants\, academics\, public figures\, representatives of public and private sectors will gather at the event to discuss topics and make innovative proposals. Famous prominent speakers in the forum are invited to the forum\, which will help to increase the professional training of the participants\, to gain important knowledge and to effectively take the time of the event. More information about these speakers is available at http://mmf.az/#team. \nAt the forum\, for the first time\, unlike the previous one\, besides the famous speakers\, everyone can act as a speaker for new faces in accounting. Naturally\, this will be based on the choice. Therefore\, those who claim to be speaker should visit the official website of the Forum – www.mmf.az – and get acquainted with the terms and conditions and apply accordingly. \nFrom the very beginning the forum distinguishes with its diversity. Thus\, the forum is planned to hold various competitions in the field of accounting. Here are some of the most exciting competitions in the field of accounting for the best treasure\, magazine\, article\, book and software nominations. In Azerbaijan\, self-reliant people in this area can visit the http://mmf.az/#musabiqe to get acquainted with the competition requirements.  Note that the winners will be awarded with cash and other valuable prizes and certificates. \nWe believe that one of the most important issues for the Forum participants will be the participation in the II Republican Brain Ring competition in the field of accounting. Knowledge competition starts with the formation of teams based on question-answer accounting questions among the Forum participants. In subsequent stages the questions become increasingly complex\, with theoretical and practical issues. The winner team is usually awarded. In the last year’s Brain Ring\, the winner of the “HAYKS” team was awarded with International Certified free training. A small fragment from that competition https://www.youtube.com/watch?v=HMpQsCgWJe0&feature=youtu.be has a great impression on the person. \nPlease note that no payment is required at the II National Accountants Forum. All expenses will be covered by the Organizing Committee of the Forum\, and on the second day of the event will be organized a tour to the beautiful places of Azerbaijan\, Shamakhi and Ismayilli districts. We believe that this will leave of accountants ffrom the work environment and eliminate their annual fatigue. \nReaders should not be delayed\, they should hurry to apply for participation. Speakers must register at least the latest until February 15\, 2018. Anyone who wishes to participate as a listener must inform the Organizing Committee of these requests by March 1\, 2018. \nTo apply\, you need to log in to the “Register” window at www.mmf.az and send your application electronically. Your e-mail address will be forwarded to your e-mail application form within 3 days. You should immediately fill out the application and email it. This is not yet the right to participate. Then\, in the first week of March 2018\, the Members of the Organizing Committee of the MMF will analyze the information submitted by the applicant and will assign the most appropriate person to the purpose of the event. Featured invitations will be sent to selected individuals so that they will have full access to the forum. \n
URL:https://ask.org.az/teqvim/ii-national-accountants-forum-will-be-held-in-azerbaijan/
CATEGORIES:Business forums
ATTACH;FMTTYPE=image/jpeg:https://ask.org.az/wp-content/uploads/2018/06/1524916272631849887_1000x669.jpg
END:VEVENT
END:VCALENDAR