BEGIN:VCALENDAR
VERSION:2.0
PRODID:-//ASK - ECPv4.6.20.1//NONSGML v1.0//EN
CALSCALE:GREGORIAN
METHOD:PUBLISH
X-WR-CALNAME:ASK
X-ORIGINAL-URL:https://ask.org.az
X-WR-CALDESC:Events for ASK
BEGIN:VEVENT
DTSTART;VALUE=DATE:20190322
DTEND;VALUE=DATE:20190323
DTSTAMP:20260423T082727
CREATED:20190207T095741Z
LAST-MODIFIED:20190207T100403Z
UID:8448-1553212800-1553299199@ask.org.az
SUMMARY:“İnformasiya və rabitə texnologiyaları sektorunda qadınların rolu” mövzusunda beynəlxalq konfrans keçiriləcək
DESCRIPTION:\nHörmətli sahibkarlar\, \nMəlumat üçün bildirmək istərdik ki\, Qara Dəniz İqtisadi Əməkdaşlıq Təşkilatında (QDİƏT) sədrlik 6 ay müddətinə (yanvar-iyun) Azərbaycan Respublikasından Bolqarıstan Respublikasına keçib. \nBolqarıstan Respublikası QDİƏT-da sədrliyi dövründə bir sıra tədbirlər həyata keçirir. Bununla əlaqədar olaraq\, 22 mart 2019-cu il tarixində Bolqarıstan Respublikasının paytaxtı Sofiya şəhərində Bolqarıstan Respublikasının Nəqliyyat\, İnformasiya Texnologiyaları və Rabitə Nazirliyi “İnformasiya və rabitə texnologiyaları sektorunda qadınların rolu” mövzusunda bir günlük beynəlxalq konfransa ev sahibliyi edəcəkdir. \nForumun məqsədi informasiya və rabitə texnologiyaları sektorunda qadınların fəaliyyətinə milli yanaşmalarla bağlı fikir mübadiləsi imkanlarını təmin etməkdir. \n\n
URL:https://ask.org.az/teqvim/informasiya-v-rabit-texnologiyalari-sektorunda-qadinlarin-rolu/
CATEGORIES:Biznes forumlar
ATTACH;FMTTYPE=image/jpeg:https://ask.org.az/wp-content/uploads/2019/02/51941425_6128797766341_4832958000463347712_n.jpg
END:VEVENT
END:VCALENDAR