BEGIN:VCALENDAR
VERSION:2.0
PRODID:-//ASK - ECPv4.6.20.1//NONSGML v1.0//EN
CALSCALE:GREGORIAN
METHOD:PUBLISH
X-WR-CALNAME:ASK
X-ORIGINAL-URL:https://ask.org.az
X-WR-CALDESC:Events for ASK
BEGIN:VEVENT
DTSTART;VALUE=DATE:20200301
DTEND;VALUE=DATE:20200401
DTSTAMP:20260423T182121
CREATED:20200204T111850Z
LAST-MODIFIED:20200204T121639Z
UID:9525-1583020800-1585699199@ask.org.az
SUMMARY:“Investment Roadshow” tədbiri keçiriləcək
DESCRIPTION:Azərbaycan Respublikası ilə Türkiyə Respublikası arasında gələcək əməkdaşlığa dair razılaşmaları əks etdirən Protokolun tərkib hissəsi kimi Fəaliyyət Planı üzrə qarşılıqlı investisiya qoyuluşlarının artırılması məqsədilə “Investment Roadshow” tədbiri keçiriləcəkdir. Bununla əlaqədar cari ilin 10 fevral tarixinədək marağı olan şirkət və qurumlardan aşağıdakıların təqdim edilməsini xahiş edirik: \n– Qarşılıqlı maraq kəsb edə biləcək aidiyyəti təqdimat; \n– Türkiyə tərəfindən tədbirdə iştirak edəcək nümayəndələrə dair təklifləriniz və onlardan tələb olunanların müəyyənləşdirilməsi; \n– Azərbaycanda həyata keçirilməsində maraqlı oldğunuz investisiya layihələri; \n– Fəaliyyət göstərdiyiniz sahə üzrə mövcud problemlər\, həlli istiqamətində və əməkdaşlığın genişləndirilməsi üzrə təkliflər. \nTədbirin mahiyyəti: \nAzərbaycanın İnvestisiya imkanlarının təqdimatı və ölkəyə xarici sərmayələrin cəlb edilməsi məqsədilə ölkədə yaradılmış əlverişli şərait\, habelə ixracat\, kənd təsərrüfatı\, tranzit\, turizm sahələrini əhatə edilməklə keçirilməsi nəzərdə tutulur. \nTədbirin tarixi: \n2020-ci ilin mart ayında Türkiyənin İstanbul şəhərində baş tutacaqdır. \nQEYD: İnvestisiya layihələrini http://bit.ly/2GGMDk1 linkinə daxil olaraq qeydiyyatdan keçirmək mütləqdir! \nƏlaqələndirici şəxs: \nNurlana Həsənova\n994 12 465 76 92 (d. 119)\nnhasanova@ask.org.az \n
URL:https://ask.org.az/teqvim/investment-roadshow-t-dbiri-keciril-c-k/
CATEGORIES:Sərgilər
ATTACH;FMTTYPE=image/jpeg:https://ask.org.az/wp-content/uploads/2020/02/iNVESTMENT-ROADSHOW.jpg
END:VEVENT
END:VCALENDAR