BEGIN:VCALENDAR
VERSION:2.0
PRODID:-//ASK - ECPv4.6.20.1//NONSGML v1.0//EN
CALSCALE:GREGORIAN
METHOD:PUBLISH
X-WR-CALNAME:ASK
X-ORIGINAL-URL:https://ask.org.az
X-WR-CALDESC:Events for ASK
BEGIN:VEVENT
DTSTART;VALUE=DATE:20190924
DTEND;VALUE=DATE:20190928
DTSTAMP:20260423T114354
CREATED:20190814T104805Z
LAST-MODIFIED:20190814T104805Z
UID:9086-1569283200-1569628799@ask.org.az
SUMMARY:Kənd Təsərrüfatı Sənayesi və Əlaqədar Maşınların Sərgisi
DESCRIPTION:İran İslam Respublikası və Azərbaycan Respublikası arasında əməkdaşlıq imkanlarının genişləndiriliməsi məqsədilə Azərbaycanlı şirkət rəhbərləri İran İslam Respublikasının Aftab şəhərində 24.09.2019 – 27.09.2019 tarixlərində keçiriləcək beynəlxalq Kənd Təsərrüfatı Sənayesi və Əlaqədar Maşınların sərgisində iştirak etmək üçün İrana səfərə dəvət olunurlar. \nTəşkilatçı tərəfindən qarşılanacaq xərclər:\n-2 gecə oteldə qonaqlama\n-nəqliyyat xərcləri \n  \nƏlaqələndirici şəxs:\nNurlana Həsənova\nTel: 012 465 76 92 (daxili 119)\nEmail: nhasanova@ask.org.az \n
URL:https://ask.org.az/teqvim/k-nd-t-s-rrufati-s-nayesi-v-elaq-dar-masinlarin-s-rgisi/
CATEGORIES:Sərgilər
ATTACH;FMTTYPE=image/jpeg:https://ask.org.az/wp-content/uploads/2019/08/combine-harvester-702413_1920.jpg
END:VEVENT
END:VCALENDAR