BEGIN:VCALENDAR
VERSION:2.0
PRODID:-//ASK - ECPv4.6.20.1//NONSGML v1.0//EN
CALSCALE:GREGORIAN
METHOD:PUBLISH
X-WR-CALNAME:ASK
X-ORIGINAL-URL:https://ask.org.az
X-WR-CALDESC:Events for ASK
BEGIN:VEVENT
DTSTART;TZID=UTC+4:20170223T093000
DTEND;TZID=UTC+4:20170223T170000
DTSTAMP:20260423T203044
CREATED:20180619T015040Z
LAST-MODIFIED:20180711T074648Z
UID:2444-1487842200-1487869200@ask.org.az
SUMMARY:Kənd Təsərrüfatı sahəsində Azərbaycan-Türkiyə Biznes forumu
DESCRIPTION:Türkiyə və Azərbaycan  Kənd  Təsərrüfatı Nazirlikləri\, Türkiyənin DEİK təşkilatının və Azərbaycan Sahibkarlar (İşəgötürənlər) Təşkilatları Milli Konfederasiyasının  təşkilatçılığı  ilə  23  fevral  2017-ci il tarixdə  saat 9.30 -da “Boulvard Hotel Baku” otelində Kənd Təsərrüfatı sahəsində Azərbaycan-Türkiyə  Biznes  forumu  keçiriləcəkdir. \nTədbirdə  Azərbaycan Respublikası  Kənd  Təsərrüfatı  naziri  Heydər  Əsədov\, Türkiyə Kənd Təsərrüfatı  naziri  Faruk  Çelik\, DEİK təşkilatının rəhbəri  Selçuk  Akat  və Azərbaycan Sahibkarlar (İşəgötürənlər) Təşkilatları Milli Konfederasiyasının  prezidenti  Məmməd  Musayev  iştirak  edəcəkdir. \nBiznes–forumda Türkiyə Respublikasından kənd  təsərrüfatının  müxtəlif  sahələri  üzrə  150 nəfər  sahibkarın  iştirakı nəzərdə  tutulmuşdur. Tədbirin əsas  məqsədi hər iki ölkə arasında  kənd  təsərrüfatı sahəsində investisiya imkanları\,   sahibkarlar  arasında  biznes\, partnyorluq əlaqələrinin qurulması və daha da genişləndirilməsindən ibarətdir. Tədbirdə iştirak edəcək sahibkarlar və biznes-forumun gündəliyi barədə sizə əlavə məlumat veriləcəkdir. \nSizi  sözügedən   Biznes-forumda iştirak etməyə  dəvət  edirik. İştirakınız  barədə  ASK-ya  məlumat  verməyiniz  xahiş olunur. \nƏlaqələndirici şəxs :  Rauf  Əliyev \n          E-mail: raliyev@ask.org.az \nTel: 012 465 72 43; Mob: 070 290 99 11 \n  \n
URL:https://ask.org.az/teqvim/k-nd-t-s-rrufati-sah-sind-az-rbaycan-turkiy-biznes-forumu/
CATEGORIES:Biznes forumlar
ATTACH;FMTTYPE=image/jpeg:https://ask.org.az/wp-content/uploads/2018/06/1487858157_img_7375_2.jpg
END:VEVENT
END:VCALENDAR