BEGIN:VCALENDAR
VERSION:2.0
PRODID:-//ASK - ECPv4.6.20.1//NONSGML v1.0//EN
CALSCALE:GREGORIAN
METHOD:PUBLISH
X-WR-CALNAME:ASK
X-ORIGINAL-URL:https://ask.org.az
X-WR-CALDESC:Events for ASK
BEGIN:VEVENT
DTSTART;VALUE=DATE:20220616
DTEND;VALUE=DATE:20220619
DTSTAMP:20260424T052754
CREATED:20220430T171311Z
LAST-MODIFIED:20220430T171311Z
UID:11616-1655337600-1655596799@ask.org.az
SUMMARY:Fərqli bizneslərin ortaq imzası: "Partners & Business" sərgisi!
DESCRIPTION:\nKiçik və Orta Biznesin İnkişafı Agentliyi\, Azərbaycan Respublikası Sahibkarlar (İşəgötürənlər) Təşkilatları Milli Konfederasiyası\, Dövlət Məşğulluq Agentliyi və “Marsol” MMC-nin birgə təşkilatçılığı\, “Kapital Bank”ın rəsmi tərəfdaşlığı\, “Qayo Group”un sponsorluğu\, “Grow Audit”in tərəfdaşlığı ilə keçiriləcək sərgidə sənaye\, kənd təsərrüfatı\, qida\, İnformasiya-Komunikasiya Texnologiyaları\, təhsil\, inşaat\, logistika\, tekstil və digər sahələrdə fəaliyyətdə olan yerli şirkətlər tərəfindən göstərilən xidmətlər\, idxal\, ixrac və istehsal olunan məhsullar nümayiş olunacaq.\n\n\n200-ə yaxın şirkət\, 10.000-dən çox ziyarətçinin iştirakı ilə baş tutacaq sərginin missiyası Azərbaycan şirkətlərinin daha geniş tanıdılması\, bazarlara çıxış imkanlarının genişləndirilməsi\, yerli şirkətlər arasında biznes tərəfdaşlığının inkişaf etdirilməsi və yeni əməkdaşlıq əlaqələrinin qurulmasıdır.\n\n\n“Partners and Business” Baku 2022 Yerli şirkətlərin tanıtım sərgisi 16\, 17\, 18 iyun “Baku Crystal Hall”da baş tutacaq.\n\n\nHər birinizi bu sərgidə iştirak etməyə\, yerli şirkətlərlə tanışlıq və yeni tərəfdaşlıqlara dəvət edirik!\n\n\nSərginin media tərəfdaşı “BHB Strategic & Creative Co.”\, promo tərəfdaşı “Moon Group”\, təşkilati dəstək isə “Primex”dir.\n\n\nSərgi ilə bağlı ətraflı məlumat və qeydiyyat üçün – www.partners.az\n\n
URL:https://ask.org.az/teqvim/f-rqli-biznesl-rin-ortaq-imzasi-partners-business-s-rgisi/
CATEGORIES:Sərgilər
ATTACH;FMTTYPE=image/jpeg:https://ask.org.az/wp-content/uploads/2022/04/POSTER-PARTNERS-600x400.jpg
END:VEVENT
END:VCALENDAR