BEGIN:VCALENDAR
VERSION:2.0
PRODID:-//ASK - ECPv4.6.20.1//NONSGML v1.0//EN
CALSCALE:GREGORIAN
METHOD:PUBLISH
X-WR-CALNAME:ASK
X-ORIGINAL-URL:https://ask.org.az
X-WR-CALDESC:Events for ASK
BEGIN:VEVENT
DTSTART;TZID=UTC+4:20180227T120000
DTEND;TZID=UTC+4:20180227T200000
DTSTAMP:20260423T082728
CREATED:20180619T235928Z
LAST-MODIFIED:20180912T114321Z
UID:2700-1519732800-1519761600@ask.org.az
SUMMARY:“Kiçik sahibkarlığa dəstək” adlı sərgi-satış yarmarkası
DESCRIPTION:Hörmətli sahibkarlar! \nMəlumat üçün bildiririk ki\, Azərbaycan Respublikası İqtisadyyat Nazirliyinin təşkilatçılığı ilə 27 fevral 2018-ci il tarixində saat 12:00-dan 20:00-a qədər Bakı Biznes Mərkəzində  “Kiçik sahibkarlığa dəstək” adlı sərgi-satış yarmarkası keçiriləcəkdir. \nSizi sözügedən satış-yarmarkada iştiraka dəvət edirik. \n
URL:https://ask.org.az/teqvim/kicik-sahibkarliga-destek-adli-sergi-satis-yarmarkasi-kecirilecekdir/
CATEGORIES:Sərgilər
ATTACH;FMTTYPE=image/jpeg:https://ask.org.az/wp-content/uploads/2018/06/1519738648_sergi-3-2.jpg
END:VEVENT
END:VCALENDAR