BEGIN:VCALENDAR
VERSION:2.0
PRODID:-//ASK - ECPv4.6.20.1//NONSGML v1.0//EN
CALSCALE:GREGORIAN
METHOD:PUBLISH
X-WR-CALNAME:ASK
X-ORIGINAL-URL:https://ask.org.az
X-WR-CALDESC:Events for ASK
BEGIN:VEVENT
DTSTART;TZID=UTC+4:20181122T080000
DTEND;TZID=UTC+4:20181124T170000
DTSTAMP:20260424T020815
CREATED:20180628T130117Z
LAST-MODIFIED:20180628T130117Z
UID:3092-1542873600-1543078800@ask.org.az
SUMMARY:RecExpo Beynəlxalq Daşınmaz Əmlak və İnvestisiya Sərgisi
DESCRIPTION:Əmlak Məsələləri Dövlət Komitəsi\, Türkiyənin “ElanExpo” şirkətinin birgə təşkilatçılığı ilə Azərbaycanın Beynəlxalq Daşınmaz Əmlak və İnvestisiya Sərgisi – “RecExpo” – keçiriləcək. \n2017-ci ildə keçirilən sərgiyə 13 ölkədən 92 beynəlxalq iştirakçı\, 7000 ziyarətçi qatılıb. Sərgi müddətində orta  hesabla hər şirkətin 3 satış və 12 ilkin satış həyata keçirməsi sərginin uğurundan xəbər verir. \n“RecExpo” sərgisi 160 yerli və xarici media nümayəndələri tərəfindən işıqlandırılıb. “Recexpo” sərgisində  85 nümayəndə heyəti və spikerin iştirakı ilə iki konfrans təşkil edilib.  Əlavə məlumatı keçiddən əldə edə bilərsiniz. \n
URL:https://ask.org.az/teqvim/recexpo-beynelxalq-dasinmaz-emlak-ve-investisiya-sergisi/
CATEGORIES:Sərgilər
ATTACH;FMTTYPE=image/png:https://ask.org.az/wp-content/uploads/2018/06/Backup_of_Recexpo-postlar.png
END:VEVENT
END:VCALENDAR