BEGIN:VCALENDAR
VERSION:2.0
PRODID:-//ASK - ECPv4.6.20.1//NONSGML v1.0//EN
CALSCALE:GREGORIAN
METHOD:PUBLISH
X-WR-CALNAME:ASK
X-ORIGINAL-URL:https://ask.org.az
X-WR-CALDESC:Events for ASK
BEGIN:VEVENT
DTSTART;TZID=UTC+4:20171110T090000
DTEND;TZID=UTC+4:20171118T170000
DTSTAMP:20260423T195124
CREATED:20180619T015229Z
LAST-MODIFIED:20180706T074618Z
UID:2449-1510304400-1511024400@ask.org.az
SUMMARY:“Regionların inkişafında sahibkarlığın rolu” mövzusunda regional forum
DESCRIPTION:Hörmətli Sahibkarlar! \n“Azərbaycan Respublikası Regionlarının 2014-2018-ci illərdə sosial-iqtisadi inkişafı Dövlət Proqramı”nın icrası ilə bağlı ölkə iqtisadiyyatının inkişafı\, makroiqtisadi sabitliyin təmin olunması\, regionlarda sahibkarlıq fəaliyyətinin genişlənməsi\, yeni müəssisə və iş yerlərinin yaranması və s. sahələrdə bir sıra işlər görülmüşdür. \nDövlət Proqramının yerinə yetirilməsi çərçivəsində Azərbaycan Respublikası Sahibkarlar (İşəgötürənlər) Təşkilatları Milli Konfederasiyasının təşkilatçılığı\, İqtisadiyyat və Kənd Təsərrüfatı Nazirliklərinin dəstəyi ilə 18 noyabr 2017-ci il tarixində saat 09:00-da Ağstafa rayon Mədəniyyət Mərkəzində “Regionların inkişafında sahibkarlığın rolu”mövzusunda regional forum keçiriləcəkdir. \nTədbirə Bakı şəhəri\, Ağstafa\, Tovuz və Qazax rayonlarından bir sıra sahibkarlar və fermerlər dəvət olunmuşdur. Forumda Dövlət Proqramının yerinə yetirilməsi\, sənayenin şəhərlərdən regionlara keçirilməsi\, sahibkarlığın inkişafında yeni mərhələ və s. məsələlər müzakirə olunacaqdır. \nSizi sözügedən forumda iştirak etməyə dəvət edirik. \nƏlaqələndirici  şəxs: Əbil Paşayev \n Tel:      (012) 465 72 42/43 \nMob:    (050) 632 24 28 \nE-mail: apashayev@ask.org.az \n  \n
URL:https://ask.org.az/teqvim/regionlarin-inkisafinda-sahibkarligin-rolu-movzusunda-regional-forum/
CATEGORIES:Biznes forumlar
ATTACH;FMTTYPE=image/jpeg:https://ask.org.az/wp-content/uploads/2018/06/DSC07020.jpg
END:VEVENT
END:VCALENDAR