BEGIN:VCALENDAR
VERSION:2.0
PRODID:-//ASK - ECPv4.6.20.1//NONSGML v1.0//EN
CALSCALE:GREGORIAN
METHOD:PUBLISH
X-WR-CALNAME:ASK
X-ORIGINAL-URL:https://ask.org.az
X-WR-CALDESC:Events for ASK
BEGIN:VEVENT
DTSTART;TZID=UTC+4:20171121T080000
DTEND;TZID=UTC+4:20171121T170000
DTSTAMP:20260423T213132
CREATED:20180618T204508Z
LAST-MODIFIED:20180712T074456Z
UID:2076-1511251200-1511283600@ask.org.az
SUMMARY:Sahibkarlar üçün əməyin mühafizəsi mövzusunda təlim-seminar keçirilib
DESCRIPTION:Azərbaycan Respublikası Sahibkarlar (İşəgötürənlər) Təşkilatları Milli Konfederasiyasının təşkilatçılığı\, Beynəlxalq Əmək Təşkilatının dəstəyi ilə Bakıda keçirilən “Əməyin mühafizəsi sahəsində işəgötürənlərin rolu” adlı 2 günlük təlim-seminara yekun vurulub\, iştirakçılara sertifikat verilib. \nTəlim-seminarın mövzusu əməyin mühafizəsi və təhlükəsiz əmək şəratinin yaradılmasında işəgötürənlərin rolu və onların əmək müfəttişləri ilə bu sahədə əməkdaşlığıdır. Təlimçi qismində BƏT-in Əməyin mühafizəsi sahəsində eksperti Valentin Mokanu çıxış edib. Tədbirin məqsədi sahibkarlıq subyektlərinin əməyin mühafizəsi sahəsində bilik və bacarıqlarının artırılması və yaxşı təcrübələrin öyrənilməsidir. \nTəlim-seminarı giriş sözü ilə açan Azərbaycan Respublikası Sahibkarlar (İşəgötürənlər) Təşkilatları Milli Konfederasiyasının vitse-prezidenti bildirib ki\, tələlimin məqsədi sahibkarlıq subyektlərinin əməyin mühafizəsi sahəsində bilik və bacarıqlarının artırılması və yaxşı təcrübələrin öyrənilməsidir. Vüqar Zeynalov onu da qeyd edib ki\, bu sahəyə maraq çox böyükdür: “Hökumət əməyin mühafizəsi ilə bağlı çox böyük işlər görür. Amma bu təlimlərə marağın böyük olması onu göstərir ki\, biz hələ də maarifləndirmə işlərini davam etdirməliyik”. \nBeynəlxalq Əmək Təşkilatının işəgötürənlərin fəaliyyəti üzrə baş mütəxəssisi Vladimir Kuroviç isə bildirib ki\, bir sıra ölkələrdə əmək müfəttişliklərinin fəaliyyətinin qənaətbəxş deyil. “Özbəkistanda uşaq əməyinin istifadəsi ilə bağlı problemlər yaranmışdı. BƏT bu ölkədə çalışmağa başladı. Fəaliyyətin ilk vaxtlarında onlar bunu etiraf etmədilər\, amma sonra həqiqəti qəbul etdilər. Sonradan bu sahədə xeyli irəliləyişə nail olduq. BƏT beynəlxalq polis deyil. Biz sadəcə insanların rifahına xidmət edəcək işlə məşğuluq”. \nTəlimçi qismində çıxış edən  Beynəlxalq Əmək Təşkilatının Əməyin mühafizəsi sahəsində eksperti Valentin Mokanu isə deyib ki\, keçmiş SSRİ ölkələrində əmək müfəttişliyi cəzaverici orqan kimi qəbul edilir: “Düşünürəm ki\, müasir əmək müfəttişliyi kimya sənayesi və ekologiya sahəsində də müəyyən yoxlamalar aparmaq səlahiyyətinə sahib olmalıdırlar”. \nQeyd edək ki\, təlim-seminarda Əmək və Əhalinin Sosial Müdafiəsi Nazirliyi yanında Dövlət Əmək Müfəttişliyi Xidmətinin əməkdaşları da iştirak ediblər. \nTəlim zamanı iştirakçıları maraqlandıran sualları Dövlət Əmək Müfəttişliyi Xidmətinin əməkdaşları\, Beynəlxalq Əmək Təşkilatının və ASK-nın rəsmi şəxsləri  cavablandırıblar. \n  \n
URL:https://ask.org.az/teqvim/sahibkarlar-ucun-m-yin-muhafiz-si-movzusunda-t-lim-seminar-kecirilib/
CATEGORIES:Seminar və təlimlər
ATTACH;FMTTYPE=image/jpeg:https://ask.org.az/wp-content/uploads/2018/06/2017.11.21-edit.jpg
END:VEVENT
END:VCALENDAR