BEGIN:VCALENDAR
VERSION:2.0
PRODID:-//ASK - ECPv4.6.20.1//NONSGML v1.0//EN
CALSCALE:GREGORIAN
METHOD:PUBLISH
X-WR-CALNAME:ASK
X-ORIGINAL-URL:https://ask.org.az
X-WR-CALDESC:Events for ASK
BEGIN:VEVENT
DTSTART;TZID=UTC+4:20150209T080000
DTEND;TZID=UTC+4:20150209T170000
DTSTAMP:20260424T033342
CREATED:20180619T100606Z
LAST-MODIFIED:20180720T080031Z
UID:2549-1423468800-1423501200@ask.org.az
SUMMARY:2015-ci ildə xarici ölkələrdə  keçiriləcək SƏRGİLƏR
DESCRIPTION:2015-ci ildə xarici ölkələrdə  keçiriləcək SƏRGİLƏR haqqında məlumat \n  \n  \n\n\n\nKeçirilmə        tarixləri                 \n     Sərginin adı və sahəsi\nKeçiriləcək ölkələr və şəhərlər\nGüzəştlər haqda məlumat\n\n\n   13-16.01.2015\n  “28-ci İstanbul Ana və körpələr üçün məhsullar sərgisi”\nTürkiyə-İstanbul\nGüzəştli\n\n\n   25-28.01.2015\n“İSMOB 2015 – İstanbul Mebel Sərgisi”\nTürkiyə-İstanbul\nGüzəştli\n\n\n27-30.01.2015\n“Avrasiya Əkinçilik 2015 – 9-cu Beynəlxalq Əkinçilik və Əkinçilik Texnikları sərgisi”\nTürkiyə-İstanbul\nGüzəştli\n\n\n03-06.02.2015\n“İFEXPO 2015 – 12-ci İstanbul Beynəlxalq Corab\, Alt paltarları sərgisi ”\nTürkiyə-İstanbul\nGüzəştli\n\n\n10-13.02.205\n“WIN-WORLD OF INDUSTRY 1.Metal emalı\, qaynaq\, və cilallama işləri sərgisi”\nTürkiyə-İstanbul\nGüzəştli\n\n\n22-25.02.2015\n“UNİCERA 27 – Beynəlxalq Seramik Vanna və Mətbəx meblləri sərgisi”\nTürkiyə-İstanbul\nGüzəştli\n\n\n23-26.02.2015\n“ANFAŞ Food Product – 22-ci Beynəlxalq Qida və içkilər sərgisi”\nTürkiyə-Antaliya\nGüzəştli\n\n\n24-27.02.2015\n“Qadın-kişi\, uşaq alt paltarları sərgisi”\nRusiya-Moskva\nGüzəştli\n\n\n03-06.03.2015\n“Mersin Agrodays – 10 – Əkinçilik və Heyvandarlıq sərgisi”\nTürkiyə-Mersin\nGüzəştli\n\n\n09-12.03.2015\n“İstanbul Pəncərə Sərgisi”\nTürkiyə-Mersin\nGüzəştli\n\n\n11-14.03.2015\nİstanbul Pəncərə 2015 “16-cı Beynəlxalq Pəncərə\, sistemləri və aksesuarları\, İstehsal Texnologiyaları və avadanlıqları\, Tamamlayıcı məhsullar sərgisi”\nTürkiyə-İstanbul\nGüzəştli\n\n\n11-14.03.2015\nİstanbul Şüşə 2015 “5-ci Şüşə məhsulları və istifadəsi\, Məhsul hazırlama Texnologiyaları sərgisi”\nTürkiyə-İstanbul\nGüzəştli\n\n\n11-14.03.2015\nİstanbul Qapı 2015 “7-ci Beynəlxalq Kilit\, ”\nTürkiyə-İstanbul\nGüzəştli\n\n\n17-20.03.2015\n“WIN-WORLD OF INDUSTRY 2. Elektrotexnika materialları sərgisi”\nTürkiyə-İstanbul\nGüzəştli\n\n\n25-28.03.2015\nEkspomed Eurasia “İstanbul 22-ci Beynəlxalq Tibbi analiz\, diaqnoz\, müalicə\, reabilitasiya avadanlıqları və aidiyyatı məhsullar sərgisi”\nTürkiyə-İstanbul\nGüzəştli\n\n\n25-28.03.2015\nLabtekmed Eurasia “İstanbul – 18-ci Beynəlxalq Tibbi Laboratoriya və Texnologiyaları sərgisi”\nTürkiyə-İstanbul\nGüzəştli\n\n\n\n“Qadın paltarları\, ayaqqabıları sərgisi”\nİtaliya-Milan\nGüzəştli\n\n\n16-18.04.2015\n“Ev-məişət avadanlıqları  Sərgisi Hindistan 2015”\nHindistan-Yeni Dehli\n \n\n\n19-22.04.2015\n“TURKEYBUILD İstanbul 2015 – 38-ci Beynəlxalq Tikinti sərgisi”\nTürkiyə-İstanbul\nGüzəştli\n\n\n05-08.05.2015\n“SODEX ANKARA 2015 – Təbii qaz\, İsitmə\, Soyutma\, Havalandırma\, Su təmizləmə və Günəş enerjisi sistemlərisərgisi”\nTürkiyə-Ankara\nGüzəştli\n\n\n07-10.05.2015\n“Mebel\, Dekorasiya və Aksesuarlar sərgisi”\nTürkiyə-Qaziantep\nGüzəştli\n\n\n14-16.05.2015\nAnufood Eurasia “7-ci Beynəlxalq Qida və içgi məhsulları\, Soyutma Texnologiyaları\, mağaza təchizatı\, servis və xidmətlər sərgisi”\nTürkiyə-İstanbul\nGüzəştli\n\n\n03-06.03.2015\n“3T 2015 – 13-cü Beynəlxalq Metal\, Metal işləmə\, Qəlib və Qaynaq Texnologiyaları sərgisi”\nTürkiyə-İzmir\nGüzəştli\n\n\n10-13.03.2015\n“Gözəllik və Baxım sərgisi – 2015 sərgisi”\nTürkiyə-İstanbul\nGüzəştli\n\n\n05-08.04.2015\n“Texworld 2015 sərgisi”\nTürkiyə-İstanbul\nGüzəştli\n\n\n08-11.04.2015\n“Avtomexanika İstanbul 2015 sərgisi”\nTürkiyə-İstanbul\nGüzəştli\n\n\n23-26.04.2015\n“İDMA 2015 – 6-cı Beynəlxalq Un\, buğda\, qarğıdalı\, Dəyirman Maşınları\, Yarma və biskvit Texnologiyaları sərgisi”\nTürkiyə-İstanbul\n \n\n\n\n“KONMAK 2015 – Konya – 12-ci Beynəlxalq Metal və Metal emalı maşınları\, Qaynaq\, Kəsmə Texnologiyaları və əl alətləri sərgisi”\nTürkiyə-Konya\nGüzəştli\n\n\n07-10.05.2015\n“MOBEF 2 – Qaziantep Mebel\, Dekorasiya\, Taxta və taxta məhsulları sərgisi”\nTürkiyə- Qaziantep\nGüzəştli\n\n\n17-20.05.2015\n“EVTEKS 2015 – 21. İstanbul Ev Tekstili sərgisi”\nTürkiyə-İstanbul\nGüzəştli\n\n\n\n“Beauty Eurasia 2015 – Beynəlxalq Gözəllik sərgisi”\nTürkiyə-İstanbul\nGüzəştli\n\n\n01-04.06.2015\n“CPhI İstanbul 2015\, Dərman ve dərman qatqıları sərgisi”\nTürkiyə-İstanbul\nGüzəştli\n\n\n09-12.06.2015\n“VIV TÜRKİYE 2015 –Quşçuluq və Texnologiyaları Sərgisi”\nTürkiyə-İstanbul\nGüzəştli\n\n\n09-12.08.2015\n“15-ci Beynəlxalq İnşaat sərgisi”\nİran-Tehran\nGüzəştli\n\n\n20-22.08.2015\n“2015 – Uşaqlar üçün Moda”\nQazaxıstan-Almata\n \n\n\n24-27.08.2015\n“4. Laleli Fashion Shopping Festivali”\nTürkiyə-İstanbul\nGüzəştli\n\n\n01-04.09.2015\n“WORLDFOOD İstanbul 2015 – 23. Beynəlxalq Qida Məhsulları və Texnologiyaları sərgisi”\nTürkiyə-İstanbul\nGüzəştli\n\n\n14-17.09.2015\n“Samsun Əkinçilik 2015 – Əkinçilik\,Heyvandarlıq və Texnologiyaları sərgisi”\nTürkiyə-Samsun\nGüzəştli\n\n\n06-09.10.2015\n“ALUEXPO 2015 – 4-cü Beynəlxalq Alüminum Texnologiyaları\, Dəzgah və Avadanlıqlar sərgisi”\nTürkiyə-İstanbul\nGüzəştli\n\n\n07-12.09.2015\n“Merter Moda 2015 – Moda sərgisi”\nTürkiyə-İstanbul\n \n\n\n13-16.09.2015\n“SHOEXPO 2015 – 38. İzmir Ayaqqabı və Çanta Sərgisi”\nTürkiyə-İzmir\nGüzəştli\n\n\n19-23.09.2015\n“BİFE SİM – Mebel\, Avadanlıqlar və Aksesuarlara dair Beynəlxalq Ticarət Sərgisi”\nRuminiya-Buxarest\n \n\n\n28-30.09.2015\n“VASTRA 2015 – 4-cü Beynəlxalq Tekstil və Geyim Sərgisi”\nHindistan\n \n\n\n\n“ZUCHEX 2015 – Beynəlxalq Ev Dekorasiyası sərgisi”\nTürkiyə-İstanbul\nGüzəştli\n\n\n08-11.10.2015\n“İNTERMOB – 18-ci Beynəlxalq Meşə məhsulları və taxta işləmə texnologiyaları sərgisi”\nTürkiyə-İstanbul\nGüzəştli\n\n\n08-09.10.2015\n“İNTERMAK 15-ci Şərqi Marmara Dəzgah\, İnşaat Texnologiyaları və məhsulları\, İnşaat dəzgah və avadanlıqları Sərgisi”\nTürkiyə-Kocaeli\nGüzəştli\n\n\n13-16.10.2015\n“BURTARIM 2015 – 13. Beynəlxalq Əkinçilik\, Toxumçuluq\, Fidançılıq və Süd Sənayesi sərgisi”\nTürkiyə-Bursa\nGüzəştli\n\n\n14-17.10.2015\n“ExpoEnergie – Neft və Təbii Qaz Sənayesi üçün Bərpaolunan Enerji\, Şərti Enerji\, Avadanlıqlar və Texnologiyalara dair Beynəlxalq Ticarət Sərgisi”\nRuminiya-Buxarest\n \n\n\n14-17.10.2015\n“İstanbul 41-ci Beynəlxalq Ləl-cəvahirət\, Saat və Aksesuarlar sərgisi”\nTürkiyə-İstanbul\nGüzəştli\n\n\n14-17.10.2015\n“Match4Industry 2015 – İkitərəfli Biznes Görüşü”\nTürkiyə-Kocaeli\nGüzəştli\n\n\n20-23.10.2015\n“Premiere Vision İstanbul – Moda Sərgisi”\nTürkiyə-İstanbul\nGüzəştli\n\n\n21-24.10.2015\n“Sleepwell Expo Yataq və Yataq Texnologiyaları sərgisi”\nTürkiyə-İstanbul\nGüzəştli\n\n\n21-25.10.2015\n“3-cü TÜMSİAD Sənaye və Ticarət sərgisi”\nTürkiyə-İstanbul\nGüzəştli\n\n\n20-23.10.2015\n“Avrasiya – 2015 – Qablaşdırma – 21-ci Beynəlxalq Qablaşdırma sərgisi”\nTürkiyə-İstanbul\nGüzəştli\n\n\n27-30.10.2015\n“8-ci Toyzeria & Kids Türkiyə Oyuncaq\,  Oyun ve Oyun qurucuları sərgisi”\nTürkiyə-İstanbul\nGüzəştli\n\n\n02-05.11.2015\n“İstanbul – 12-ci Beynəlxalq Mərmər\, Təbii Daş Məhsulları və Texnologiyaları sərgisi”\nTürkiyə-İstanbul\nGüzəştli\n\n\n03-06.11.2015\n“Pawex-Comp 2015 – Pompa\, Vanna\, Kompressor ve Vakum Sistemləri sərgisi”\nTürkiyə-İstanbul\nGüzəştli\n\n\n03-06.11.2015\n“Orta Şərq Qida Sərgisi – 5-ci Qida və içki məhsulları\, Qida istehsalı texnologiyaları\, Kulinariya avadanlıqları\, Soba avadanlıqları\, Dondurma hazırlayan avadanlıqlar\, Soyuducular\, Saxlama-paketləmə və Mağaza-market təchizatı sərgisi”\nTürkiyə-Diyarbakır\nGüzəştli\n\n\n10-13.11.2015\n“4-cü Beynəlxalq Poliuretan Sənaye-İxtisas sərgisi”\nTürkiyə-İstanbul\nGüzəştli\n\n\n11-14.11.2015\n “Kontrakt Otel Expo Bursa – Otel\, Xəstəxana və Xidmət sərgisi”\nTürkiyə-Bursa\nGüzəştli\n\n\n25-28.11.2015\n“Bursa 2015 – Mərmər və Mərmər Emalı Dəzgahları sərgisi ”\nTürkiyə-Bursa\nGüzəştli\n\n\n\n“İndagra – Kənd Təsərrüfatı\, Kənd Təsrrüfatı Avadanlıqları\, Bağçılıq\, Üzümçülük və Heyvandalıq\, Heyvandarlıq Məhsullarına dair Beynəlxalq Ticarət Sərgisi ”\nRuminiya-Buxarest\n \n\n\n\n“Growtech Eurasia 2015 – 15-ci Beynəlxalq  İstixana\, Əkinçilik Avadanlıqları və Texnologiyaları sərgisi”\nTürkiyə-Antalya\nGüzəştli\n\n\n01-04.12.2015\n“Plast Eurasia İstanbul 2015 – 25-ci  Beynəlxalq İstanbul Plastik Sənayesi Sərgisi”\nTürkiyə-İstanbul\nGüzəştli\n\n\n01-04.12.2015\n“ATRAX – 4-cü Beynəlxalq Əyləncə\, Park quraşdırma Sənayesi sərgisi”\nTürkiyə-İstanbul\nGüzəştli\n\n\n09-12.12.2015\n“Bursa Metalişləmə Texnologiyaları sərgisi – 14-cü Beynəlxalq Metalişləmə avadanlıqları\, Qaynaq\, Kəsmə\, Dəlmə Texnologiyları və Əl alətləri sərgisi”\nTürkiyə-Bursa\nGüzəştli\n\n\n11-14.01.2016\n“30-cu İstanbul Ana və Körpələr üçün ləvazimatlar sərgisi”\nTürkiyə-İstanbul\nGüzəştli\n\n\n12-14.01.2016\nİSMOB İstanbul Mebel sərgisi\nTürkiyə-İstanbul\nGüzəştli\n\n\n12-15.01.2016\n“Anfaş Hotel Equipment – 27-ci Beynəlxalq Qonaqlama və Yerləşdirmə Sərgisi”\nTürkiyə-Antalya\nGüzəştli\n\n\n19-22.01.2016\n“Avroasiya Kənd Təsərrüfatı sərgisi”\nTürkiyə-İstanbul\nGüzəştli\n\n\n26-29.01.2016\n“Mersin Agrodays 2016-11-ci Əkinçilik\, Qida və Heyvandarlıq sərgisi”\nTürkiyə-Mersin\nGüzəştli\n\n\n09-12.02.2016\n“Anfaş Food Product – 23-cü Beynəlxalq Qida ve İçki sərgisi”\nTürkiyə-Antalya\nGüzəştli\n\n\n24-28.02.2016\nMODEKO 2016 – 27-ci İzmir Mebel sərgisi\nTürkiyə-İzmir\nGüzəştli\n\n\n07-10.04.2016\nİNELEX – 10-cu Lift və Lift Texnologiyaları sərgisi\nTürkiyə-İzmir\nGüzəştli\n\n\n04-07.05.2016\n“İSK-SODEX 2016 –  İstilik\, Soyutma\, Havalandırma\, Ventilyasiya\, İzolyasiya\, Nasos\, Klapan\, Quraşdırma\, Suyun təmizlənməsi\, Günəş Enerjisi Sistemləri Sərgisi”\nTürkiyə-İstanbul\n \n\n\n\n  \n
URL:https://ask.org.az/teqvim/sahibkarlarin-n-z-rin-20/
CATEGORIES:Sərgilər
ATTACH;FMTTYPE=image/jpeg:https://ask.org.az/wp-content/uploads/2018/06/Untitled-35-640x448.jpg
END:VEVENT
END:VCALENDAR