BEGIN:VCALENDAR
VERSION:2.0
PRODID:-//ASK - ECPv4.6.20.1//NONSGML v1.0//EN
CALSCALE:GREGORIAN
METHOD:PUBLISH
X-WR-CALNAME:ASK
X-ORIGINAL-URL:https://ask.org.az
X-WR-CALDESC:Events for ASK
BEGIN:VEVENT
DTSTART;TZID=UTC+4:20151211T080000
DTEND;TZID=UTC+4:20151211T170000
DTSTAMP:20260423T225331
CREATED:20180618T231654Z
LAST-MODIFIED:20180723T084718Z
UID:2251-1449820800-1449853200@ask.org.az
SUMMARY:Ulu öndərin xatirəsi yad olundu
DESCRIPTION:Ümummilli liderimiz Heydər Əliyevin vəfatından 12  il ötür. Ulu Öndər Heydər Əliyevin ölməz\, əbədi xatirəsi xalqımız tərəfindən  hər an yad edilir və xatırlanır. Bu gün Azərbaycan Respublikası Sahibkarlar (İşəgötürənlər) Təşkilatları Milli Konfederasiyasında da mərhum prezident Heydər Əliyevin anım günü qeyd olunub. Mərasimdə bildirilib ki\,  ulu Öndər Heydər Əliyev  Azərbaycana rəhbərlik etdiyi bütün dövrlər ərzində\, həmişə xalqımızın milli maraqlarını uca tutmuş\, ictimai\, siyasi\, iqtisadi\,   mədəni və digər sahələri  daim önə çəkmişdir. \nAzərbaycan Respublikası Sahibkarlar (İşəgötürənlər) Təşkilatları Milli Konfederasiyasının vitse-prezidenti   Vüqar Zeynalov  tədbiri açaraq dövlət xadimi\, siyasətçi Heydər Əliyevin Azərbaycan tarixindəki  önəmli rolundan söhbət açıb. V.Zeynalov  bildirib ki\, Heydər Əliyev Azərbaycan xalqının tarixində elə bir şərəfli həyat yaşayıb ki\, onun xatirəsi Azərbaycan xalqı yaşadıqca hər zaman yaşayacaq. \nASK-nın Baş katibinin müavini Mehman Mehmanov isə  Heydər Əlyevin Azərbaycan dövlətinin inkişafında  oynadığı tarixi roldan\, ölkəmizin gələcəyi naminə  göstərdiyi misilsiz xidmətlərdən bəhs edib. O\, bildirib ki\, Heydər Əliyevin quruculuq fəaliyyəti dövründə Azərbaycanın inkişafı və xalqın dinc yaşamasını təmin etmək üçün müxtəlif  istiqamətlərdə gərgin iş aparılmış\, böyük səy göstərilmişdir. M.Mehmanov qeyd edib ki. bu 12  ildə Heydər Əliyev siyasəti yaşadı və ölkə prezidenti İlham Əliyev tərəfindən uğurla davam etdirilərək\, Azərbaycan böyük  inkişaf yolu keçdi.Qeyd olundu ki\, Azərbaycan xalqı Heydər Əliyev siyasəti ətrafında\, onun ideyaları ətrafında daha da sıx birləşib. \nASK-nın baş məsləhətçisi Adil Qurbanov da ulu öndərlə bağlı xatirələrini dilə gətirərək\, ümummilli liderin uzaqgörən siyasətçi olması ilə yanaşı\, Azərbaycan dilinin inkişafı üçün həyata keçirdiyi tədbirləri də  iştirakçıların diqqətinə çatdırıb. \nSonda Heydər Əliyevin xatirəsi bir dəqiqəlik sükutla yad edilib. \n  \nGünel Yusifqızı \n  \n
URL:https://ask.org.az/teqvim/ulu-ond-rin-xatir-si-yad-olundu/
CATEGORIES:Press-relizlər
ATTACH;FMTTYPE=image/jpeg:https://ask.org.az/wp-content/uploads/2018/06/2015.12.11-edit.jpg
END:VEVENT
END:VCALENDAR