BEGIN:VCALENDAR
VERSION:2.0
PRODID:-//ASK - ECPv4.6.20.1//NONSGML v1.0//EN
CALSCALE:GREGORIAN
METHOD:PUBLISH
X-WR-CALNAME:ASK
X-ORIGINAL-URL:https://ask.org.az
X-WR-CALDESC:Events for ASK
BEGIN:VEVENT
DTSTART;VALUE=DATE:20191023
DTEND;VALUE=DATE:20191026
DTSTAMP:20260423T112132
CREATED:20190910T134509Z
LAST-MODIFIED:20190910T134509Z
UID:9169-1571788800-1572047999@ask.org.az
SUMMARY:"UZENERGYEXPO 2019" Beynəlxalq sərigisi keçiriləcək
DESCRIPTION:23 – 25 oktyabr 2019-cu il tarixlərində İEG Özbəkistan şirkətinin təşkilatçılığı ilə Özbəkistan Respublikasının Daşkənd şəhərində “Uzexpocentre”də 14-cü “UZEXPOENERGYEXPO 2019” Beynəlxalq sərgi öz işinə başlayacaq. Sərgi enerji\, mexaniki mühəndislik\, enerjiyə qənaət\, elektrik mühəndisliyi\, işıqlandırma\, kabellər\, məftillər və fitinqlər üzrə əsas tematik sahələrdən ibarət olacaqdır. Əsas məqsəd bəhs olunan sahalər üzrə fəaliyyət göstərən mütəxəssisləri bir araya gətirməkdir. Sərginin təşkili Özbəkistanda planlaşdırılan enerji layihələri baxımından xüsusi əhəmiyyət daşıyır. \nDaha ətraflı məlumatla bu keçidə daxil olaraq əldə edə bilərsiniz:\nhttps://www.tradefairdates.com/UzEnergyExpo-M7189/Tashkent.html \nƏlaqələndirici şəxs: Nurlana Həsənova\nTel: 012 465 76 92 (daxili 119)\nEmail: nhasanova@ask.org.az \n
URL:https://ask.org.az/teqvim/uzenergyexpo-2019-beyn-lxalq-s-rigisi-keciril-c-k/
CATEGORIES:Sərgilər
ATTACH;FMTTYPE=image/jpeg:https://ask.org.az/wp-content/uploads/2019/09/uzenergy_expo_logo_7189.jpg
END:VEVENT
END:VCALENDAR