BEGIN:VCALENDAR
VERSION:2.0
PRODID:-//ASK - ECPv4.6.20.1//NONSGML v1.0//EN
CALSCALE:GREGORIAN
METHOD:PUBLISH
X-WR-CALNAME:ASK
X-ORIGINAL-URL:https://ask.org.az
X-WR-CALDESC:Events for ASK
BEGIN:VEVENT
DTSTART;TZID=UTC+4:20190405T100000
DTEND;TZID=UTC+4:20190405T120000
DTSTAMP:20260423T111100
CREATED:20190307T080942Z
LAST-MODIFIED:20190307T081115Z
UID:8555-1554458400-1554465600@ask.org.az
SUMMARY:“Yaşıl dəhliz” mövzusunda seminar keçiriləcək
DESCRIPTION:Hörmətli sahibkarlar! \nAzərbaycan Respublikası Sahibkarlar (İşəgötürənlər) Təşkilatları Milli Konfederasiyasının təşəbbüsü və Azərbaycan Respublikası Dövlət Gömrük Komitəsinin dəstəyi ilə sahibkarların məlumatlandırılması məqsədi ilə təşkil olunan təlimlərin ikinci etapına start verildi. Belə ki\, 05.04.2019 tarixində “Yaşıl dəhliz” mövzusunda seminar təşkil olunur. \n“Yaşıl Dəhliz” buraxılış sisteminin məqsədi: \n\nqanunvericiliyə riayət edən xarici ticarət iştirakçıları üçün daha əlverişli şərait yaratmaq\,\nbiznesin dövlət tənzimləmə mexanizmlərinin effektivliyini artırmaq\,\nkönüllü riayət mədəniyyətini formalaşdırmaq\,\nrisk qiymətləndirilməsi və gömrük auditi əsasında gömrük nəzarətini və rəsmiləşdirilməsini daha çevik və şəffaf həyata keçirməklə fiziki gömrük yoxlamalarını minimuma endirmək\,\nölkənin ixrac potensialını gücləndirmək\,\nməmur-sahibkar münasibətlərini müasir idarəçilik prinsiplərinə uyğun olaraq inkişaf etdirmək\,\nmövcud resurslardan daha optimal istifadəni təmin etməkdir.\n\nSizi seminarda iştirak etməyə dəvət edirik. \nTəlim Azərbaycan Respublikası Dövlət Gömrük Komitəsinin əməkdaşı tərəfindən keçiriləcək. Təlimdə iştirak etmək üçün https://sahibkarliq.typeform.com/to/B7vBsf linkində qeydiyyatdan keçmək mütləqdir. \nTəlim sadəcə ASK üzvləri üçün nəzərdə tutulur. \nKursun keçirilmə tarixi:       05.04.2019 \nBaşlama saatı:                   10:00 – 12:00 \nTəlimin keçirildiyi ünvan:    Bakı ş\, Nizami küç.\, 90 A\, Landmark \nSon qeydiyyat tarixi:           04.04.2019 \n  \nƏlaqələndirici şəxs: \nElmira Balıyeva \nTel: (994 12) 465 76 92 (daxili: 121) \nE-mail: ebaliyeva@ask.org.az \n
URL:https://ask.org.az/teqvim/yasil-d-hliz-movzusunda-seminar-keciril-c-k/
CATEGORIES:Seminar və təlimlər
ATTACH;FMTTYPE=image/jpeg:https://ask.org.az/wp-content/uploads/2019/03/yashil_dehliz.jpg
END:VEVENT
END:VCALENDAR